BEGIN:VCALENDAR
VERSION:2.0
PRODID:-//Gemeinde-Bunt - ECPv4.6.5//NONSGML v1.0//EN
CALSCALE:GREGORIAN
METHOD:PUBLISH
X-WR-CALNAME:Gemeinde-Bunt
X-ORIGINAL-URL:https://gemeinde-bunt.de
X-WR-CALDESC:Events for Gemeinde-Bunt
BEGIN:VEVENT
DTSTART;TZID=UTC+1:20190310T093000
DTEND;TZID=UTC+1:20190310T103000
DTSTAMP:20260425T183557
CREATED:20170820T145245Z
LAST-MODIFIED:20190301T175114Z
UID:1620-1552210200-1552213800@gemeinde-bunt.de
SUMMARY:Gottesdienst St. Georg
DESCRIPTION:
URL:https://gemeinde-bunt.de/termine/gottesdienst-st-georg-4-2019-03-10
LOCATION:St. Georg-Straße 104\, Salzwedel\, Sachsen-Anhalt\, 29410\, Deutschland
CATEGORIES:Gottesdienst
END:VEVENT
END:VCALENDAR