BEGIN:VCALENDAR
VERSION:2.0
PRODID:-//Gemeinde-Bunt - ECPv4.6.5//NONSGML v1.0//EN
CALSCALE:GREGORIAN
METHOD:PUBLISH
X-WR-CALNAME:Gemeinde-Bunt
X-ORIGINAL-URL:https://gemeinde-bunt.de
X-WR-CALDESC:Events for Gemeinde-Bunt
BEGIN:VEVENT
DTSTART;TZID=UTC+1:20190314T143000
DTEND;TZID=UTC+1:20190314T163000
DTSTAMP:20260425T112004
CREATED:20170722T092432Z
LAST-MODIFIED:20190304T164819Z
UID:1123-1552573800-1552581000@gemeinde-bunt.de
SUMMARY:Seniorenkreis Klein Gartz
DESCRIPTION:Veranstaltungsort bei Pastor Thurn erfragen! \n
URL:https://gemeinde-bunt.de/termine/seniorenkreis-klein-gartz/2019-03-14
CATEGORIES:Gemeindeangebote
END:VEVENT
END:VCALENDAR