BEGIN:VCALENDAR
VERSION:2.0
PRODID:-//Gemeinde-Bunt - ECPv4.6.5//NONSGML v1.0//EN
CALSCALE:GREGORIAN
METHOD:PUBLISH
X-WR-CALNAME:Gemeinde-Bunt
X-ORIGINAL-URL:https://gemeinde-bunt.de
X-WR-CALDESC:Events for Gemeinde-Bunt
BEGIN:VEVENT
DTSTART;TZID=UTC+1:20190324T140000
DTEND;TZID=UTC+1:20190324T150000
DTSTAMP:20260424T162047
CREATED:20190301T175736Z
LAST-MODIFIED:20190301T175736Z
UID:11298-1553436000-1553439600@gemeinde-bunt.de
SUMMARY:Entwidmungs-Gottesdienst Klein Chüden
DESCRIPTION:
URL:https://gemeinde-bunt.de/termine/entwidmungs-gottesdienst-klein-chueden
CATEGORIES:Gottesdienst
END:VEVENT
END:VCALENDAR