BEGIN:VCALENDAR
VERSION:2.0
PRODID:-//Gemeinde-Bunt - ECPv4.6.5//NONSGML v1.0//EN
CALSCALE:GREGORIAN
METHOD:PUBLISH
X-WR-CALNAME:Gemeinde-Bunt
X-ORIGINAL-URL:https://gemeinde-bunt.de
X-WR-CALDESC:Events for Gemeinde-Bunt
BEGIN:VEVENT
DTSTART;TZID=UTC+1:20190328T143000
DTEND;TZID=UTC+1:20190328T163000
DTSTAMP:20260424T091841
CREATED:20180129T170503Z
LAST-MODIFIED:20190304T164404Z
UID:10678-1553783400-1553790600@gemeinde-bunt.de
SUMMARY:Frauen-/Seniorenkreis Riebau
DESCRIPTION:Veranstaltungsort bei Pastor Thurn erfragen! \n
URL:https://gemeinde-bunt.de/termine/frauen-seniorenkreis-riebau-2018-10-06/2019-03-28
CATEGORIES:Groß Chüden,Senioren
END:VEVENT
END:VCALENDAR