BEGIN:VCALENDAR
VERSION:2.0
PRODID:-//Gemeinde-Bunt - ECPv4.6.5//NONSGML v1.0//EN
CALSCALE:GREGORIAN
METHOD:PUBLISH
X-WR-CALNAME:Gemeinde-Bunt
X-ORIGINAL-URL:https://gemeinde-bunt.de
X-WR-CALDESC:Events for Gemeinde-Bunt
BEGIN:VEVENT
DTSTART;TZID=UTC+1:20200902T100000
DTEND;TZID=UTC+1:20200902T120000
DTSTAMP:20260420T002814
CREATED:20200902T154257Z
LAST-MODIFIED:20200902T154342Z
UID:12338-1599040800-1599048000@gemeinde-bunt.de
SUMMARY:Ausstellung Zittauer Fastentücher
DESCRIPTION:
URL:https://gemeinde-bunt.de/termine/ausstellung-zittauer-fastentuecher/2020-09-02
LOCATION:Katharinenkirche \, Salzwedel\, Sachsen-Anhalt\, 29410\, Deutschland
GEO:52.8552028;11.1565092
X-APPLE-STRUCTURED-LOCATION;VALUE=URI;X-ADDRESS=Katharinenkirche  Salzwedel Sachsen-Anhalt 29410 Deutschland;X-APPLE-RADIUS=500;X-TITLE=Katharinenkirche:geo:11.1565092,52.8552028
CATEGORIES:St. Katharinen
END:VEVENT
BEGIN:VEVENT
DTSTART;TZID=UTC+1:20200902T150000
DTEND;TZID=UTC+1:20200902T154500
DTSTAMP:20260420T002814
CREATED:20180722T135845Z
LAST-MODIFIED:20200902T144535Z
UID:8389-1599058800-1599061500@gemeinde-bunt.de
SUMMARY:Spatzenchor
DESCRIPTION:für Kinder ab 4 Jahre \n
URL:https://gemeinde-bunt.de/termine/spateznchor
LOCATION:An der Katharinenkirche 6\, Salzwedel\, Sachsen-Anhalt\, 29410\, Deutschland
GEO:52.85536;11.15654
X-APPLE-STRUCTURED-LOCATION;VALUE=URI;X-ADDRESS=An der Katharinenkirche 6 Salzwedel Sachsen-Anhalt 29410 Deutschland;X-APPLE-RADIUS=500;X-TITLE=An der Katharinenkirche 6:geo:11.15654,52.85536
CATEGORIES:Chorprobe
END:VEVENT
END:VCALENDAR