BEGIN:VCALENDAR
VERSION:2.0
PRODID:-//Gemeinde-Bunt - ECPv4.6.5//NONSGML v1.0//EN
CALSCALE:GREGORIAN
METHOD:PUBLISH
X-WR-CALNAME:Gemeinde-Bunt
X-ORIGINAL-URL:https://gemeinde-bunt.de
X-WR-CALDESC:Events for Gemeinde-Bunt
BEGIN:VEVENT
DTSTART;TZID=UTC+1:20200917T193000
DTEND;TZID=UTC+1:20200917T213000
DTSTAMP:20260421T131508
CREATED:20171125T172039Z
LAST-MODIFIED:20200902T144159Z
UID:9365-1600371000-1600378200@gemeinde-bunt.de
SUMMARY:Katharinen-Abend
DESCRIPTION:Thema: Zittauer Fastentücher mit Peter Knüvener (Leiter der Städtischen Museen Zittau) \n
URL:https://gemeinde-bunt.de/termine/katharinen-abend-thema-tansania
LOCATION:An der Katharinenkirche 6\, Salzwedel\,  \, 29410\, Deutschland
GEO:52.85536;11.15654
X-APPLE-STRUCTURED-LOCATION;VALUE=URI;X-ADDRESS=An der Katharinenkirche 6 Salzwedel   29410 Deutschland;X-APPLE-RADIUS=500;X-TITLE=An der Katharinenkirche 6:geo:11.15654,52.85536
CATEGORIES:Gemeindeangebote
END:VEVENT
END:VCALENDAR