BEGIN:VCALENDAR
VERSION:2.0
PRODID:-//Gemeinde-Bunt - ECPv4.6.5//NONSGML v1.0//EN
CALSCALE:GREGORIAN
METHOD:PUBLISH
X-WR-CALNAME:Gemeinde-Bunt
X-ORIGINAL-URL:https://gemeinde-bunt.de
X-WR-CALDESC:Events for Gemeinde-Bunt
BEGIN:VEVENT
DTSTART;TZID=UTC+1:20240908T091500
DTEND;TZID=UTC+1:20240908T100000
DTSTAMP:20260422T182638
CREATED:20230101T093840Z
LAST-MODIFIED:20240904T160608Z
UID:14471-1725786900-1725789600@gemeinde-bunt.de
SUMMARY:Gottesdienst Kuhfelde
DESCRIPTION:
URL:https://gemeinde-bunt.de/termine/gottesdienst-kuhfelde-5
LOCATION:Hauptstraße\, Kuhfelde\, Sachsen-Anhalt\, 29416\, Deutschland
GEO:52.7851494;11.1164001
X-APPLE-STRUCTURED-LOCATION;VALUE=URI;X-ADDRESS=Hauptstraße Kuhfelde Sachsen-Anhalt 29416 Deutschland;X-APPLE-RADIUS=500;X-TITLE=Hauptstraße:geo:11.1164001,52.7851494
CATEGORIES:Gottesdienst
END:VEVENT
BEGIN:VEVENT
DTSTART;TZID=UTC+1:20240908T103000
DTEND;TZID=UTC+1:20240908T113000
DTSTAMP:20260422T182638
CREATED:20240904T173507Z
LAST-MODIFIED:20241022T211908Z
UID:15940-1725791400-1725795000@gemeinde-bunt.de
SUMMARY:Gottesdienst St. Katharinen
DESCRIPTION:
URL:https://gemeinde-bunt.de/termine/gottesdienst-st-katharinen-4-2024-09-08
LOCATION:Katharinenkirche \, Salzwedel\, Sachsen-Anhalt\, 29410\, Deutschland
GEO:52.8552028;11.1565092
X-APPLE-STRUCTURED-LOCATION;VALUE=URI;X-ADDRESS=Katharinenkirche  Salzwedel Sachsen-Anhalt 29410 Deutschland;X-APPLE-RADIUS=500;X-TITLE=Katharinenkirche:geo:11.1565092,52.8552028
CATEGORIES:Gottesdienst
END:VEVENT
BEGIN:VEVENT
DTSTART;TZID=UTC+1:20240908T110000
DTEND;TZID=UTC+1:20240908T120000
DTSTAMP:20260422T182638
CREATED:20170820T145245Z
LAST-MODIFIED:20200509T074140Z
UID:6345-1725793200-1725796800@gemeinde-bunt.de
SUMMARY:Gottesdienst St. Georg
DESCRIPTION:
URL:https://gemeinde-bunt.de/termine/gottesdienst-st-georg-4-2017-11-05/2024-09-08
LOCATION:St. Georg-Straße 104\, Salzwedel\, Sachsen-Anhalt\, 29410\, Deutschland
GEO:52.84229;11.1634
X-APPLE-STRUCTURED-LOCATION;VALUE=URI;X-ADDRESS=St. Georg-Straße 104 Salzwedel Sachsen-Anhalt 29410 Deutschland;X-APPLE-RADIUS=500;X-TITLE=St. Georg-Straße 104:geo:11.1634,52.84229
CATEGORIES:Gottesdienst
END:VEVENT
BEGIN:VEVENT
DTSTART;TZID=UTC+1:20240908T140000
DTEND;TZID=UTC+1:20240908T150000
DTSTAMP:20260422T182638
CREATED:20170820T151044Z
LAST-MODIFIED:20240904T173820Z
UID:1652-1725804000-1725807600@gemeinde-bunt.de
SUMMARY:Gottesdienst Buchwitz
DESCRIPTION:
URL:https://gemeinde-bunt.de/termine/gottesdienst-buchwitz-2
LOCATION:Buchwitz\, Salzwedel\, Sachsen-Anhalt\, 29410\, Deutschland
GEO:52.823683;11.219874
X-APPLE-STRUCTURED-LOCATION;VALUE=URI;X-ADDRESS=Buchwitz Salzwedel Sachsen-Anhalt 29410 Deutschland;X-APPLE-RADIUS=500;X-TITLE=Buchwitz:geo:11.219874,52.823683
CATEGORIES:Gottesdienst
END:VEVENT
END:VCALENDAR