BEGIN:VCALENDAR
VERSION:2.0
PRODID:-//Gemeinde-Bunt - ECPv4.6.5//NONSGML v1.0//EN
CALSCALE:GREGORIAN
METHOD:PUBLISH
X-WR-CALNAME:Gemeinde-Bunt
X-ORIGINAL-URL:https://gemeinde-bunt.de
X-WR-CALDESC:Events for Gemeinde-Bunt
BEGIN:VEVENT
DTSTART;TZID=UTC+1:20240911T153000
DTEND;TZID=UTC+1:20240911T163000
DTSTAMP:20260422T231421
CREATED:20171017T073909Z
LAST-MODIFIED:20171017T073909Z
UID:15587-1726068600-1726072200@gemeinde-bunt.de
SUMMARY:Kinderchor
DESCRIPTION: \nfür Kinder  unter 13 Jahre \n
URL:https://gemeinde-bunt.de/termine/kinderchor-2018-06-13-2018-10-24-2024-05-15/2024-09-11
LOCATION:An der Katharinenkirche 6\, Salzwedel\, Sachsen-Anhalt\, 29410\, Deutschland
GEO:52.85536;11.15654
X-APPLE-STRUCTURED-LOCATION;VALUE=URI;X-ADDRESS=An der Katharinenkirche 6 Salzwedel Sachsen-Anhalt 29410 Deutschland;X-APPLE-RADIUS=500;X-TITLE=An der Katharinenkirche 6:geo:11.15654,52.85536
CATEGORIES:Chorprobe
END:VEVENT
BEGIN:VEVENT
DTSTART;TZID=UTC+1:20240911T153000
DTEND;TZID=UTC+1:20240911T180000
DTSTAMP:20260422T231421
CREATED:20240909T151135Z
LAST-MODIFIED:20240909T151135Z
UID:15971-1726068600-1726077600@gemeinde-bunt.de
SUMMARY:Jungpfadfinder  - namenlose Gruppe
DESCRIPTION:
URL:https://gemeinde-bunt.de/termine/jungpfadfinder-namenlose-gruppe/2024-09-11
LOCATION:St. Georg-Straße 104\, Salzwedel\, Sachsen-Anhalt\, 29410\, Deutschland
CATEGORIES:Pfadfinder
END:VEVENT
BEGIN:VEVENT
DTSTART;TZID=UTC+1:20240911T193000
DTEND;TZID=UTC+1:20240911T193000
DTSTAMP:20260422T231421
CREATED:20210830T143821Z
LAST-MODIFIED:20240904T171425Z
UID:12876-1726083000-1726083000@gemeinde-bunt.de
SUMMARY:Bibelkreis
DESCRIPTION:
URL:https://gemeinde-bunt.de/termine/bibelkreis/2024-09-11
LOCATION:An der Katharinenkirche 6\, Salzwedel\,  \, 29410\, Deutschland
GEO:52.85536;11.15654
X-APPLE-STRUCTURED-LOCATION;VALUE=URI;X-ADDRESS=An der Katharinenkirche 6 Salzwedel   29410 Deutschland;X-APPLE-RADIUS=500;X-TITLE=An der Katharinenkirche 6:geo:11.15654,52.85536
CATEGORIES:St. Katharinen
END:VEVENT
END:VCALENDAR