BEGIN:VCALENDAR
VERSION:2.0
PRODID:-//Gemeinde-Bunt - ECPv4.6.5//NONSGML v1.0//EN
CALSCALE:GREGORIAN
METHOD:PUBLISH
X-WR-CALNAME:Gemeinde-Bunt
X-ORIGINAL-URL:https://gemeinde-bunt.de
X-WR-CALDESC:Events for Gemeinde-Bunt
BEGIN:VEVENT
DTSTART;TZID=UTC+1:20240926T153000
DTEND;TZID=UTC+1:20240926T180000
DTSTAMP:20260424T022851
CREATED:20170826T091203Z
LAST-MODIFIED:20170826T091203Z
UID:15948-1727364600-1727373600@gemeinde-bunt.de
SUMMARY:Wölflinge
DESCRIPTION:
URL:https://gemeinde-bunt.de/termine/juengere-woelflinge-2-2019-02-28/2024-09-26
LOCATION:St. Georg-Straße 104\, Salzwedel\, Sachsen-Anhalt\, 29410\, Deutschland
CATEGORIES:Pfadfinder
END:VEVENT
BEGIN:VEVENT
DTSTART;TZID=UTC+1:20240926T193000
DTEND;TZID=UTC+1:20240926T213000
DTSTAMP:20260424T022851
CREATED:20170623T065619Z
LAST-MODIFIED:20201127T161000Z
UID:12290-1727379000-1727386200@gemeinde-bunt.de
SUMMARY:Leselampe
DESCRIPTION:
URL:https://gemeinde-bunt.de/termine/leselampe/2024-09-26
LOCATION:An der Katharinenkirche 6\, Salzwedel\,  \, 29410\, Deutschland
GEO:52.85536;11.15654
X-APPLE-STRUCTURED-LOCATION;VALUE=URI;X-ADDRESS=An der Katharinenkirche 6 Salzwedel   29410 Deutschland;X-APPLE-RADIUS=500;X-TITLE=An der Katharinenkirche 6:geo:11.15654,52.85536
CATEGORIES:Gemeindeangebote
END:VEVENT
END:VCALENDAR