BEGIN:VCALENDAR
VERSION:2.0
PRODID:-//Gemeinde-Bunt - ECPv4.6.5//NONSGML v1.0//EN
CALSCALE:GREGORIAN
METHOD:PUBLISH
X-WR-CALNAME:Gemeinde-Bunt
X-ORIGINAL-URL:https://gemeinde-bunt.de
X-WR-CALDESC:Events for Gemeinde-Bunt
BEGIN:VEVENT
DTSTART;TZID=UTC+1:20241005T160000
DTEND;TZID=UTC+1:20241005T170000
DTSTAMP:20260424T191454
CREATED:20191120T165600Z
LAST-MODIFIED:20240904T172841Z
UID:11838-1728144000-1728147600@gemeinde-bunt.de
SUMMARY:Gottesdienst  Brewitz
DESCRIPTION:
URL:https://gemeinde-bunt.de/termine/christvesper-in-brewitz
LOCATION:Brewitz\, 29410
CATEGORIES:Gottesdienst
END:VEVENT
BEGIN:VEVENT
DTSTART;TZID=UTC+1:20241005T173000
DTEND;TZID=UTC+1:20241005T183000
DTSTAMP:20260424T191454
CREATED:20170820T143924Z
LAST-MODIFIED:20240904T172754Z
UID:1532-1728149400-1728153000@gemeinde-bunt.de
SUMMARY:Gottesdienst Stappenbeck
DESCRIPTION:
URL:https://gemeinde-bunt.de/termine/gottesdienst-stappenbeck
LOCATION:Stappenbeck\, Salzwed\, Sachsen-Anhalt\, 29410
CATEGORIES:Gottesdienst
END:VEVENT
END:VCALENDAR