BEGIN:VCALENDAR
VERSION:2.0
PRODID:-//Gemeinde-Bunt - ECPv4.6.5//NONSGML v1.0//EN
CALSCALE:GREGORIAN
METHOD:PUBLISH
X-WR-CALNAME:Gemeinde-Bunt
X-ORIGINAL-URL:https://gemeinde-bunt.de
X-WR-CALDESC:Events for Gemeinde-Bunt
BEGIN:VEVENT
DTSTART;TZID=UTC+1:20241006T103000
DTEND;TZID=UTC+1:20241006T113000
DTSTAMP:20260424T210012
CREATED:20220307T162412Z
LAST-MODIFIED:20240904T161516Z
UID:13701-1728210600-1728214200@gemeinde-bunt.de
SUMMARY:gemeinsamer Gottesdienst St. Katharinen & St. Georg
DESCRIPTION:
URL:https://gemeinde-bunt.de/termine/gottesdienst-st-katharinen-4-2024-10-06
LOCATION:An der Katharinenkirche 6\, Salzwedel\, Sachsen-Anhalt\, 29410\, Deutschland
GEO:52.85536;11.15654
X-APPLE-STRUCTURED-LOCATION;VALUE=URI;X-ADDRESS=An der Katharinenkirche 6 Salzwedel Sachsen-Anhalt 29410 Deutschland;X-APPLE-RADIUS=500;X-TITLE=An der Katharinenkirche 6:geo:11.15654,52.85536
CATEGORIES:Gottesdienst
END:VEVENT
BEGIN:VEVENT
DTSTART;TZID=UTC+1:20241006T140000
DTEND;TZID=UTC+1:20241006T150000
DTSTAMP:20260424T210012
CREATED:20171120T153809Z
LAST-MODIFIED:20240904T172705Z
UID:9276-1728223200-1728226800@gemeinde-bunt.de
SUMMARY:Gottesdienst Pretzier
DESCRIPTION:
URL:https://gemeinde-bunt.de/termine/gottesdienst-pretzier-3
LOCATION:Dorfstraße 43\, Salzwedel\, Sachsen-Anhalt\, 29410\, Deutschland
CATEGORIES:Gottesdienst
END:VEVENT
END:VCALENDAR