BEGIN:VCALENDAR
VERSION:2.0
PRODID:-//Gemeinde-Bunt - ECPv4.6.5//NONSGML v1.0//EN
CALSCALE:GREGORIAN
METHOD:PUBLISH
X-WR-CALNAME:Gemeinde-Bunt
X-ORIGINAL-URL:https://gemeinde-bunt.de
X-WR-CALDESC:Events for Gemeinde-Bunt
BEGIN:VEVENT
DTSTART;TZID=UTC+1:20241020T093000
DTEND;TZID=UTC+1:20241020T103000
DTSTAMP:20260426T003204
CREATED:20191120T165738Z
LAST-MODIFIED:20240904T172458Z
UID:11840-1729416600-1729420200@gemeinde-bunt.de
SUMMARY:Gottesdienst Riebau
DESCRIPTION:
URL:https://gemeinde-bunt.de/termine/christvesper-riebau-2
LOCATION:Riebau\, Salzwedel\, Sachsen-Anhalt\, 29410\, Deutschland
GEO:52.8563527;11.2768836
X-APPLE-STRUCTURED-LOCATION;VALUE=URI;X-ADDRESS=Riebau Salzwedel Sachsen-Anhalt 29410 Deutschland;X-APPLE-RADIUS=500;X-TITLE=Riebau:geo:11.2768836,52.8563527
CATEGORIES:Gottesdienst
END:VEVENT
BEGIN:VEVENT
DTSTART;TZID=UTC+1:20241020T110000
DTEND;TZID=UTC+1:20241020T120000
DTSTAMP:20260426T003204
CREATED:20170820T145245Z
LAST-MODIFIED:20200509T074141Z
UID:6351-1729422000-1729425600@gemeinde-bunt.de
SUMMARY:Gottesdienst St. Georg
DESCRIPTION:
URL:https://gemeinde-bunt.de/termine/gottesdienst-st-georg-4-2017-11-05/2024-10-20
LOCATION:St. Georg-Straße 104\, Salzwedel\, Sachsen-Anhalt\, 29410\, Deutschland
GEO:52.84229;11.1634
X-APPLE-STRUCTURED-LOCATION;VALUE=URI;X-ADDRESS=St. Georg-Straße 104 Salzwedel Sachsen-Anhalt 29410 Deutschland;X-APPLE-RADIUS=500;X-TITLE=St. Georg-Straße 104:geo:11.1634,52.84229
CATEGORIES:Gottesdienst
END:VEVENT
BEGIN:VEVENT
DTSTART;TZID=UTC+1:20241020T140000
DTEND;TZID=UTC+1:20241020T150000
DTSTAMP:20260426T003204
CREATED:20230911T205345Z
LAST-MODIFIED:20240904T162135Z
UID:15329-1729432800-1729436400@gemeinde-bunt.de
SUMMARY:Kirchspiel-Gottesdienst zum Erntedank in Valfitz
DESCRIPTION:
URL:https://gemeinde-bunt.de/termine/martinsfest-valfitz
LOCATION:Valfitz\, Kuhfelde\, Sachsen-Anhalt\, 29416\, Deutschland
GEO:52.7645928;11.1203708
X-APPLE-STRUCTURED-LOCATION;VALUE=URI;X-ADDRESS=Valfitz Kuhfelde Sachsen-Anhalt 29416 Deutschland;X-APPLE-RADIUS=500;X-TITLE=Valfitz:geo:11.1203708,52.7645928
CATEGORIES:Gemeindeangebote,Kuhfelde
END:VEVENT
END:VCALENDAR