BEGIN:VCALENDAR
VERSION:2.0
PRODID:-//Gemeinde-Bunt - ECPv4.6.5//NONSGML v1.0//EN
CALSCALE:GREGORIAN
METHOD:PUBLISH
X-WR-CALNAME:Gemeinde-Bunt
X-ORIGINAL-URL:https://gemeinde-bunt.de
X-WR-CALDESC:Events for Gemeinde-Bunt
BEGIN:VEVENT
DTSTART;TZID=UTC+1:20250410T193000
DTEND;TZID=UTC+1:20250410T203000
DTSTAMP:20260425T110951
CREATED:20240904T160827Z
LAST-MODIFIED:20250117T090625Z
UID:15870-1744313400-1744317000@gemeinde-bunt.de
SUMMARY:Allianz-Gebets-Abend
DESCRIPTION:
URL:https://gemeinde-bunt.de/termine/allianz-gebets-abend-2024-10-10
LOCATION:Schmiedestraße 13\, Salzwedel\, Sachsen-Anhalt\, 29410\, Deutschland
GEO:52.848482;11.1500625
X-APPLE-STRUCTURED-LOCATION;VALUE=URI;X-ADDRESS=Schmiedestraße 13 Salzwedel Sachsen-Anhalt 29410 Deutschland;X-APPLE-RADIUS=500;X-TITLE=Schmiedestraße 13:geo:11.1500625,52.848482
CATEGORIES:Andacht
END:VEVENT
END:VCALENDAR