BEGIN:VCALENDAR
VERSION:2.0
PRODID:-//Gemeinde-Bunt - ECPv4.6.5//NONSGML v1.0//EN
CALSCALE:GREGORIAN
METHOD:PUBLISH
X-WR-CALNAME:Gemeinde-Bunt
X-ORIGINAL-URL:https://gemeinde-bunt.de
X-WR-CALDESC:Events for Gemeinde-Bunt
BEGIN:VEVENT
DTSTART;TZID=UTC+1:20250612T193000
DTEND;TZID=UTC+1:20250612T203000
DTSTAMP:20260421T204022
CREATED:20250117T091034Z
LAST-MODIFIED:20250117T091034Z
UID:16104-1749756600-1749760200@gemeinde-bunt.de
SUMMARY:Allianz-Gebets-Abend
DESCRIPTION:
URL:https://gemeinde-bunt.de/termine/allianz-gebets-abend-3
LOCATION:Amt Dambeck 2\, Salzwedel\, Sachsen-Anhalt\, 29410\, Deutschland
END:VEVENT
END:VCALENDAR