BEGIN:VCALENDAR
VERSION:2.0
PRODID:-//Gemeinde-Bunt - ECPv4.6.5//NONSGML v1.0//EN
CALSCALE:GREGORIAN
METHOD:PUBLISH
X-WR-CALNAME:Gemeinde-Bunt
X-ORIGINAL-URL:https://gemeinde-bunt.de
X-WR-CALDESC:Events for Gemeinde-Bunt
BEGIN:VEVENT
DTSTART;TZID=UTC+1:20230621T150000
DTEND;TZID=UTC+1:20230621T170000
DTSTAMP:20260419T181321
CREATED:20210721T154013Z
LAST-MODIFIED:20210721T154013Z
UID:15155-1687359600-1687366800@gemeinde-bunt.de
SUMMARY:Begegnungstreff
DESCRIPTION:Für alle\, groß und klein\, alt und jung\, Salzwedler\, Geflüchtete und andere Interessierte\nWo: im Gemeindezentrum St. Georg und Außengelände\,  \nGeorg-Str. 104 \nWann: Mittwochs von 15-17.00 Uhr   \nWir bieten an: \n\n– Spiele\, Tischtennis\nHilfe bei kleinen Fahrradreparaturen\nAustausch\, Gespräche\, Begegnung\nKaffee/Tee und Kuchen\n\n
URL:https://gemeinde-bunt.de/termine/begegnungstreff-3/2023-06-21
CATEGORIES:Gemeindeangebote,St. Georg
END:VEVENT
END:VCALENDAR