BEGIN:VCALENDAR
VERSION:2.0
PRODID:-//Gemeinde-Bunt - ECPv4.6.5//NONSGML v1.0//EN
CALSCALE:GREGORIAN
METHOD:PUBLISH
X-WR-CALNAME:Gemeinde-Bunt
X-ORIGINAL-URL:https://gemeinde-bunt.de
X-WR-CALDESC:Events for Gemeinde-Bunt
BEGIN:VEVENT
DTSTART;TZID=UTC+1:20191023T150000
DTEND;TZID=UTC+1:20191023T180000
DTSTAMP:20260421T153615
CREATED:20180224T170109Z
LAST-MODIFIED:20190831T151952Z
UID:9946-1571842800-1571853600@gemeinde-bunt.de
SUMMARY:Begegnungstreff
DESCRIPTION:
URL:https://gemeinde-bunt.de/termine/begegnungstreff/2019-10-23
LOCATION:St. Georg-Straße 104\, Salzwedel\, Sachsen-Anhalt\, 29410\, Deutschland
CATEGORIES:Gemeindeangebote
END:VEVENT
END:VCALENDAR