BEGIN:VCALENDAR
VERSION:2.0
PRODID:-//Gemeinde-Bunt - ECPv4.6.5//NONSGML v1.0//EN
CALSCALE:GREGORIAN
METHOD:PUBLISH
X-WR-CALNAME:Gemeinde-Bunt
X-ORIGINAL-URL:https://gemeinde-bunt.de
X-WR-CALDESC:Events for Gemeinde-Bunt
BEGIN:VEVENT
DTSTART;TZID=UTC+1:20230301T150000
DTEND;TZID=UTC+1:20230301T163000
DTSTAMP:20260419T200125
CREATED:20180224T163557Z
LAST-MODIFIED:20230306T185225Z
UID:10370-1677682800-1677688200@gemeinde-bunt.de
SUMMARY:Besuchsdienstkreis
DESCRIPTION:
URL:https://gemeinde-bunt.de/termine/besuchsdienstkreis-2018-04-25/2023-03-01
LOCATION:St. Georg-Straße 104\, Salzwedel\, Sachsen-Anhalt\, 29410\, Deutschland
CATEGORIES:Gemeindeangebote,St. Georg
END:VEVENT
END:VCALENDAR