BEGIN:VCALENDAR
VERSION:2.0
PRODID:-//Gemeinde-Bunt - ECPv4.6.5//NONSGML v1.0//EN
CALSCALE:GREGORIAN
METHOD:PUBLISH
X-WR-CALNAME:Gemeinde-Bunt
X-ORIGINAL-URL:https://gemeinde-bunt.de
X-WR-CALDESC:Events for Gemeinde-Bunt
BEGIN:VEVENT
DTSTART;TZID=UTC+1:20191023T190000
DTEND;TZID=UTC+1:20191023T203000
DTSTAMP:20260421T172028
CREATED:20180224T155836Z
LAST-MODIFIED:20190826T153856Z
UID:9933-1571857200-1571862600@gemeinde-bunt.de
SUMMARY:Chorprobe "Laurentius" in Pretzier
DESCRIPTION:
URL:https://gemeinde-bunt.de/termine/chorprobe-laurentius-in-pretzier/2019-10-23
LOCATION:Hans-Beimler-Straße 18\, Salzwedel\, OT Pretzier\, Sachsen-Anhalt\, 29410\, Deutschland
CATEGORIES:Chorprobe
END:VEVENT
END:VCALENDAR