BEGIN:VCALENDAR
VERSION:2.0
PRODID:-//Gemeinde-Bunt - ECPv4.6.5//NONSGML v1.0//EN
CALSCALE:GREGORIAN
METHOD:PUBLISH
X-WR-CALNAME:Gemeinde-Bunt
X-ORIGINAL-URL:https://gemeinde-bunt.de
X-WR-CALDESC:Events for Gemeinde-Bunt
BEGIN:VEVENT
DTSTART;TZID=UTC+1:20191106T190000
DTEND;TZID=UTC+1:20191106T203000
DTSTAMP:20260422T000800
CREATED:20180224T155611Z
LAST-MODIFIED:20190826T153635Z
UID:9930-1573066800-1573072200@gemeinde-bunt.de
SUMMARY:Chorprobe "Laurentius" in St. Georg
DESCRIPTION:
URL:https://gemeinde-bunt.de/termine/chorprobe-laurentius-in-st-georg-2018-03-21/2019-11-06
LOCATION:St. Georg-Straße 104\, Salzwedel\, Sachsen-Anhalt\, 29410\, Deutschland
CATEGORIES:Chorprobe
END:VEVENT
END:VCALENDAR