BEGIN:VCALENDAR
VERSION:2.0
PRODID:-//Gemeinde-Bunt - ECPv4.6.5//NONSGML v1.0//EN
CALSCALE:GREGORIAN
METHOD:PUBLISH
X-WR-CALNAME:Gemeinde-Bunt
X-ORIGINAL-URL:https://gemeinde-bunt.de
X-WR-CALDESC:Events for Gemeinde-Bunt
BEGIN:VEVENT
DTSTART;TZID=UTC+1:20251224T230000
DTEND;TZID=UTC+1:20251225T000000
DTSTAMP:20260424T174133
CREATED:20171119T165319Z
LAST-MODIFIED:20171119T165319Z
UID:12947-1766617200-1766620800@gemeinde-bunt.de
SUMMARY:Christmette St. Georg
DESCRIPTION:
URL:https://gemeinde-bunt.de/termine/christmette-st-georg/2025-12-24
CATEGORIES:Gottesdienst
END:VEVENT
END:VCALENDAR