BEGIN:VCALENDAR
VERSION:2.0
PRODID:-//Gemeinde-Bunt - ECPv4.6.5//NONSGML v1.0//EN
CALSCALE:GREGORIAN
METHOD:PUBLISH
X-WR-CALNAME:Gemeinde-Bunt
X-ORIGINAL-URL:https://gemeinde-bunt.de
X-WR-CALDESC:Events for Gemeinde-Bunt
BEGIN:VEVENT
DTSTART;TZID=UTC+1:20241224T093000
DTEND;TZID=UTC+1:20241224T103000
DTSTAMP:20260425T191234
CREATED:20171119T164629Z
LAST-MODIFIED:20241207T101459Z
UID:12472-1735032600-1735036200@gemeinde-bunt.de
SUMMARY:Christvesper Klein Gartz
DESCRIPTION:
URL:https://gemeinde-bunt.de/termine/christvesper-klein-gartz-2024-12-24
CATEGORIES:Gottesdienst
END:VEVENT
END:VCALENDAR