BEGIN:VCALENDAR
VERSION:2.0
PRODID:-//Gemeinde-Bunt - ECPv4.6.5//NONSGML v1.0//EN
CALSCALE:GREGORIAN
METHOD:PUBLISH
X-WR-CALNAME:Gemeinde-Bunt
X-ORIGINAL-URL:https://gemeinde-bunt.de
X-WR-CALDESC:Events for Gemeinde-Bunt
BEGIN:VEVENT
DTSTART;TZID=UTC+1:20231224T150000
DTEND;TZID=UTC+1:20231224T160000
DTSTAMP:20260422T064633
CREATED:20191120T165648Z
LAST-MODIFIED:20231126T104705Z
UID:11839-1703430000-1703433600@gemeinde-bunt.de
SUMMARY:Christvesper Stappenbeck
DESCRIPTION:
URL:https://gemeinde-bunt.de/termine/christvesper-stappenbeck-2
LOCATION:Stappenbeck\, Salzwed\, Sachsen-Anhalt\, 29410
CATEGORIES:Gottesdienst
END:VEVENT
END:VCALENDAR