BEGIN:VCALENDAR
VERSION:2.0
PRODID:-//Gemeinde-Bunt - ECPv4.6.5//NONSGML v1.0//EN
CALSCALE:GREGORIAN
METHOD:PUBLISH
X-WR-CALNAME:Gemeinde-Bunt
X-ORIGINAL-URL:https://gemeinde-bunt.de
X-WR-CALDESC:Events for Gemeinde-Bunt
BEGIN:VEVENT
DTSTART;TZID=UTC+1:20231217T093000
DTEND;TZID=UTC+1:20231217T103000
DTSTAMP:20260420T030052
CREATED:20171119T164304Z
LAST-MODIFIED:20231126T102435Z
UID:9207-1702805400-1702809000@gemeinde-bunt.de
SUMMARY:Gottesdienst Vissum
DESCRIPTION:
URL:https://gemeinde-bunt.de/termine/christvesper-vissum-2018-12-24
LOCATION:Vissum\, Arendsee\, Sachsen-Anhalt\, 29416\, Deutschland
GEO:52.8203537;11.3556665
X-APPLE-STRUCTURED-LOCATION;VALUE=URI;X-ADDRESS=Vissum Arendsee Sachsen-Anhalt 29416 Deutschland;X-APPLE-RADIUS=500;X-TITLE=Vissum:geo:11.3556665,52.8203537
CATEGORIES:Gottesdienst
END:VEVENT
END:VCALENDAR