BEGIN:VCALENDAR
VERSION:2.0
PRODID:-//Gemeinde-Bunt - ECPv4.6.5//NONSGML v1.0//EN
CALSCALE:GREGORIAN
METHOD:PUBLISH
X-WR-CALNAME:Gemeinde-Bunt
X-ORIGINAL-URL:https://gemeinde-bunt.de
X-WR-CALDESC:Events for Gemeinde-Bunt
BEGIN:VEVENT
DTSTART;TZID=UTC+1:20241224T150000
DTEND;TZID=UTC+1:20241224T160000
DTSTAMP:20260425T172253
CREATED:20170820T145314Z
LAST-MODIFIED:20241207T104825Z
UID:1547-1735052400-1735056000@gemeinde-bunt.de
SUMMARY:Christvesper Buchwitz
DESCRIPTION:
URL:https://gemeinde-bunt.de/termine/erntedank-gottesdienst-buchwitz
LOCATION:Buchwitz\, Salzwedel\, Sachsen-Anhalt\, 29410\, Deutschland
GEO:52.823683;11.219874
X-APPLE-STRUCTURED-LOCATION;VALUE=URI;X-ADDRESS=Buchwitz Salzwedel Sachsen-Anhalt 29410 Deutschland;X-APPLE-RADIUS=500;X-TITLE=Buchwitz:geo:11.219874,52.823683
CATEGORIES:Gottesdienst
END:VEVENT
END:VCALENDAR