BEGIN:VCALENDAR
VERSION:2.0
PRODID:-//Gemeinde-Bunt - ECPv4.6.5//NONSGML v1.0//EN
CALSCALE:GREGORIAN
METHOD:PUBLISH
X-WR-CALNAME:Gemeinde-Bunt
X-ORIGINAL-URL:https://gemeinde-bunt.de
X-WR-CALDESC:Events for Gemeinde-Bunt
BEGIN:VEVENT
DTSTART;TZID=UTC+1:20221018T193000
DTEND;TZID=UTC+1:20221018T213000
DTSTAMP:20260424T120645
CREATED:20170623T070406Z
LAST-MODIFIED:20221017T095141Z
UID:1034-1666121400-1666128600@gemeinde-bunt.de
SUMMARY:Filmklub Katharinen
DESCRIPTION:
URL:https://gemeinde-bunt.de/termine/filmklub-katharinen/2022-10-18
LOCATION:An der Katharinenkirche 1\, Salzwedel\, Sachsen-Anhalt\, 29410\, Deutschland
GEO:52.8551155;11.1553916
X-APPLE-STRUCTURED-LOCATION;VALUE=URI;X-ADDRESS=An der Katharinenkirche 1 Salzwedel Sachsen-Anhalt 29410 Deutschland;X-APPLE-RADIUS=500;X-TITLE=An der Katharinenkirche 1:geo:11.1553916,52.8551155
CATEGORIES:Gemeindeangebote
END:VEVENT
END:VCALENDAR