BEGIN:VCALENDAR
VERSION:2.0
PRODID:-//Gemeinde-Bunt - ECPv4.6.5//NONSGML v1.0//EN
CALSCALE:GREGORIAN
METHOD:PUBLISH
X-WR-CALNAME:Gemeinde-Bunt
X-ORIGINAL-URL:https://gemeinde-bunt.de
X-WR-CALDESC:Events for Gemeinde-Bunt
BEGIN:VEVENT
DTSTART;TZID=UTC+1:20230501T170000
DTEND;TZID=UTC+1:20230501T173000
DTSTAMP:20260426T042033
CREATED:20220307T152930Z
LAST-MODIFIED:20230424T143642Z
UID:13405-1682960400-1682962200@gemeinde-bunt.de
SUMMARY:Friedensgebet
DESCRIPTION: \n  \n
URL:https://gemeinde-bunt.de/termine/friedensgebet-2022-03-19-2-2023-05-06
LOCATION:Katharinenkirche \, Salzwedel\, Sachsen-Anhalt\, 29410\, Deutschland
GEO:52.8552028;11.1565092
X-APPLE-STRUCTURED-LOCATION;VALUE=URI;X-ADDRESS=Katharinenkirche  Salzwedel Sachsen-Anhalt 29410 Deutschland;X-APPLE-RADIUS=500;X-TITLE=Katharinenkirche:geo:11.1565092,52.8552028
CATEGORIES:Andacht
END:VEVENT
END:VCALENDAR