BEGIN:VCALENDAR
VERSION:2.0
PRODID:-//Gemeinde-Bunt - ECPv4.6.5//NONSGML v1.0//EN
CALSCALE:GREGORIAN
METHOD:PUBLISH
X-WR-CALNAME:Gemeinde-Bunt
X-ORIGINAL-URL:https://gemeinde-bunt.de
X-WR-CALDESC:Events for Gemeinde-Bunt
BEGIN:VEVENT
DTSTART;TZID=UTC+1:20220312T180000
DTEND;TZID=UTC+1:20220312T183000
DTSTAMP:20260421T222104
CREATED:20220307T152930Z
LAST-MODIFIED:20220309T172817Z
UID:13129-1647108000-1647109800@gemeinde-bunt.de
SUMMARY:Friedensgebet
DESCRIPTION: \n  \nVeranstaltungsort ändert sich öfters! \n
URL:https://gemeinde-bunt.de/termine/friedensgebet
LOCATION:Marienkirche\, Salzwedel\, Sachsen-Anhalt\, 29410\, Deutschland
GEO:52.84948;11.149008
X-APPLE-STRUCTURED-LOCATION;VALUE=URI;X-ADDRESS=Marienkirche Salzwedel Sachsen-Anhalt 29410 Deutschland;X-APPLE-RADIUS=500;X-TITLE=Marienkirche:geo:11.149008,52.84948
CATEGORIES:Andacht
END:VEVENT
END:VCALENDAR