BEGIN:VCALENDAR
VERSION:2.0
PRODID:-//Gemeinde-Bunt - ECPv4.6.5//NONSGML v1.0//EN
CALSCALE:GREGORIAN
METHOD:PUBLISH
X-WR-CALNAME:Gemeinde-Bunt
X-ORIGINAL-URL:https://gemeinde-bunt.de
X-WR-CALDESC:Events for Gemeinde-Bunt
BEGIN:VEVENT
DTSTART;TZID=UTC+1:20191006T140000
DTEND;TZID=UTC+1:20191006T170000
DTSTAMP:20260421T102250
CREATED:20190901T080249Z
LAST-MODIFIED:20190901T080850Z
UID:11772-1570370400-1570381200@gemeinde-bunt.de
SUMMARY:Gemeindekirchenratswahl Kirchspiel Kuhfelde
DESCRIPTION:Kandidaten: \n\nDoris Bischoff (Siedenlangenbeck) Jg. 1949\, verh. seit 1970\, Abitur in Salzwedel\, Landwirtsch. Lehre in Büssen\, Studium Veterinär – Fachschule in Rostock\, dann Tätigkeit in dem Fachgebiet im Kreis Salzwedel\, seit 2013 im Ruhestand.\nBirgit Dähnrich (Valfitz) Jg. 1964\, verh.\, 2 Kinder\, Leiterin des Kreiskirchenamt Salzwedel.\nEckard George (Kuhfelde) Jg. 1950\, verheiratet.\nBärbel Heinze (Leetze) Jg. 1962\, verheiratet;2 Kinder\, geboren in Salzwedel\, Kindheit in Leetze verbracht\, 10. Klasse an der POS Kuhfelde\, Ausbildung als Facharbeiter für chemische Produktion.\nMathias Klopp (Hohenlangenbeck) Jg. 1970\, ledig.\nDorothea Leisegang (Kuhfelde) Geboren in Woltersdorf bei Berlin\, Beruf : Psychiatriediakonin\, zwei erwachsene Kinder\, fünf Enkelkinder\, lebte von 1984 bis 2004 in Hannover. Seit neun Jahren leben wir im alten Pfarrhaus in Kuhfelde.\nPeter Meineke (Kuhfelde) Jahrgang 1956\, verheiratet\, zwei erwachsene Söhne\, Beruf – Schweißer\n\n
URL:https://gemeinde-bunt.de/termine/gemeindekirchenratswahl-kirchspiel-kuhfelde
LOCATION:Valfitz\, Kuhfelde\, Sachsen-Anhalt\, 29416\, Deutschland
GEO:52.7645928;11.1203708
X-APPLE-STRUCTURED-LOCATION;VALUE=URI;X-ADDRESS=Valfitz Kuhfelde Sachsen-Anhalt 29416 Deutschland;X-APPLE-RADIUS=500;X-TITLE=Valfitz:geo:11.1203708,52.7645928
END:VEVENT
END:VCALENDAR