BEGIN:VCALENDAR
VERSION:2.0
PRODID:-//Gemeinde-Bunt - ECPv4.6.5//NONSGML v1.0//EN
CALSCALE:GREGORIAN
METHOD:PUBLISH
X-WR-CALNAME:Gemeinde-Bunt
X-ORIGINAL-URL:https://gemeinde-bunt.de
X-WR-CALDESC:Events for Gemeinde-Bunt
BEGIN:VEVENT
DTSTART;TZID=UTC+1:20250108T193000
DTEND;TZID=UTC+1:20250108T210000
DTSTAMP:20260420T084734
CREATED:20231111T205439Z
LAST-MODIFIED:20250114T143738Z
UID:15441-1736364600-1736370000@gemeinde-bunt.de
SUMMARY:Gesprächskreis "Der Kreis ist eine runde Sache"
DESCRIPTION:\n
URL:https://gemeinde-bunt.de/termine/gespraechskreis-der-kreis-ist-eine-runde-sache-7/2025-01-08
LOCATION:An der Marienkirche 1\, Salzwedel\, Sachsen-Anhalt\, 29410\, Deutschland
CATEGORIES:Gemeindeangebote,Groß Chüden,Kuhfelde,St. Georg,St. Katharinen
END:VEVENT
END:VCALENDAR