BEGIN:VCALENDAR
VERSION:2.0
PRODID:-//Gemeinde-Bunt - ECPv4.6.5//NONSGML v1.0//EN
CALSCALE:GREGORIAN
METHOD:PUBLISH
X-WR-CALNAME:Gemeinde-Bunt
X-ORIGINAL-URL:https://gemeinde-bunt.de
X-WR-CALDESC:Events for Gemeinde-Bunt
BEGIN:VEVENT
DTSTART;TZID=UTC+1:20240329T091500
DTEND;TZID=UTC+1:20240329T100000
DTSTAMP:20260426T023332
CREATED:20210228T153441Z
LAST-MODIFIED:20240318T113151Z
UID:12610-1711703700-1711706400@gemeinde-bunt.de
SUMMARY:Gottesdienst Kuhfelde - Kirchspiel-GD
DESCRIPTION:
URL:https://gemeinde-bunt.de/termine/gottesdienst-karfreitag
LOCATION:Hauptstraße 20\, Kuhfelde\, Sachsen-Anhalt\, 29416\, Deutschland
GEO:52.7851494;11.1164001
X-APPLE-STRUCTURED-LOCATION;VALUE=URI;X-ADDRESS=Hauptstraße 20 Kuhfelde Sachsen-Anhalt 29416 Deutschland;X-APPLE-RADIUS=500;X-TITLE=Hauptstraße 20:geo:11.1164001,52.7851494
CATEGORIES:Gottesdienst
END:VEVENT
END:VCALENDAR