BEGIN:VCALENDAR
VERSION:2.0
PRODID:-//Gemeinde-Bunt - ECPv4.6.5//NONSGML v1.0//EN
CALSCALE:GREGORIAN
METHOD:PUBLISH
X-WR-CALNAME:Gemeinde-Bunt
X-ORIGINAL-URL:https://gemeinde-bunt.de
X-WR-CALDESC:Events for Gemeinde-Bunt
BEGIN:VEVENT
DTSTART;TZID=UTC+1:20220918T091500
DTEND;TZID=UTC+1:20220918T100000
DTSTAMP:20260422T000505
CREATED:20180520T154514Z
LAST-MODIFIED:20220902T161630Z
UID:10345-1663492500-1663495200@gemeinde-bunt.de
SUMMARY:Gottesdienst Kuhfelde
DESCRIPTION:
URL:https://gemeinde-bunt.de/termine/gottesdienst-kuhfelde-4
LOCATION:Hauptstraße\, Kuhfelde\, Sachsen-Anhalt\, 29416\, Deutschland
GEO:52.7851494;11.1164001
X-APPLE-STRUCTURED-LOCATION;VALUE=URI;X-ADDRESS=Hauptstraße Kuhfelde Sachsen-Anhalt 29416 Deutschland;X-APPLE-RADIUS=500;X-TITLE=Hauptstraße:geo:11.1164001,52.7851494
CATEGORIES:Gottesdienst
END:VEVENT
END:VCALENDAR