BEGIN:VCALENDAR
VERSION:2.0
PRODID:-//Gemeinde-Bunt - ECPv4.6.5//NONSGML v1.0//EN
CALSCALE:GREGORIAN
METHOD:PUBLISH
X-WR-CALNAME:Gemeinde-Bunt
X-ORIGINAL-URL:https://gemeinde-bunt.de
X-WR-CALDESC:Events for Gemeinde-Bunt
BEGIN:VEVENT
DTSTART;TZID=UTC+1:20220409T150000
DTEND;TZID=UTC+1:20220409T160000
DTSTAMP:20260421T220730
CREATED:20180824T143539Z
LAST-MODIFIED:20220308T074409Z
UID:10665-1649516400-1649520000@gemeinde-bunt.de
SUMMARY:Gottesdienst Pflegeheim Hoyersburger Straße
DESCRIPTION:
URL:https://gemeinde-bunt.de/termine/gottesdienst-pflegeheim-hoyersburger-strasse-2
LOCATION:Hoyersburger Straße 60\, Salzwedel\, Sachsen-Anhalt\, 29410\, Deutschland
GEO:52.8656218;11.1581731
X-APPLE-STRUCTURED-LOCATION;VALUE=URI;X-ADDRESS=Hoyersburger Straße 60 Salzwedel Sachsen-Anhalt 29410 Deutschland;X-APPLE-RADIUS=500;X-TITLE=Hoyersburger Straße 60:geo:11.1581731,52.8656218
CATEGORIES:Gottesdienst
END:VEVENT
END:VCALENDAR