BEGIN:VCALENDAR
VERSION:2.0
PRODID:-//Gemeinde-Bunt - ECPv4.6.5//NONSGML v1.0//EN
CALSCALE:GREGORIAN
METHOD:PUBLISH
X-WR-CALNAME:Gemeinde-Bunt
X-ORIGINAL-URL:https://gemeinde-bunt.de
X-WR-CALDESC:Events for Gemeinde-Bunt
BEGIN:VEVENT
DTSTART;TZID=UTC+1:20241110T093000
DTEND;TZID=UTC+1:20241110T103000
DTSTAMP:20260421T120123
CREATED:20190525T144944Z
LAST-MODIFIED:20240904T171638Z
UID:10881-1731231000-1731234600@gemeinde-bunt.de
SUMMARY:Gottesdienst Pretzier
DESCRIPTION:
URL:https://gemeinde-bunt.de/termine/gottesdienst-pretzier-6
LOCATION:Dorfstraße 43\, Salzwedel\, Sachsen-Anhalt\, 29410\, Deutschland
CATEGORIES:Gottesdienst
END:VEVENT
END:VCALENDAR