BEGIN:VCALENDAR
VERSION:2.0
PRODID:-//Gemeinde-Bunt - ECPv4.6.5//NONSGML v1.0//EN
CALSCALE:GREGORIAN
METHOD:PUBLISH
X-WR-CALNAME:Gemeinde-Bunt
X-ORIGINAL-URL:https://gemeinde-bunt.de
X-WR-CALDESC:Events for Gemeinde-Bunt
BEGIN:VEVENT
DTSTART;TZID=UTC+1:20241201T093000
DTEND;TZID=UTC+1:20241201T103000
DTSTAMP:20260425T171334
CREATED:20190826T144210Z
LAST-MODIFIED:20241127T151957Z
UID:11730-1733045400-1733049000@gemeinde-bunt.de
SUMMARY:Gottesdienst Ritze
DESCRIPTION:
URL:https://gemeinde-bunt.de/termine/gottesdienst-ritze-4
LOCATION:Chüdenallee\, Salzwedel\, Sachsen-Anhalt\, 29410\, Deutschland
CATEGORIES:Gottesdienst
END:VEVENT
END:VCALENDAR