BEGIN:VCALENDAR
VERSION:2.0
PRODID:-//Gemeinde-Bunt - ECPv4.6.5//NONSGML v1.0//EN
CALSCALE:GREGORIAN
METHOD:PUBLISH
X-WR-CALNAME:Gemeinde-Bunt
X-ORIGINAL-URL:https://gemeinde-bunt.de
X-WR-CALDESC:Events for Gemeinde-Bunt
BEGIN:VEVENT
DTSTART;TZID=UTC+1:20200919T160000
DTEND;TZID=UTC+1:20200919T170000
DTSTAMP:20260421T202320
CREATED:20170820T150925Z
LAST-MODIFIED:20200902T134852Z
UID:1650-1600531200-1600534800@gemeinde-bunt.de
SUMMARY:Gottesdienst Siedenlangenbeck
DESCRIPTION:
URL:https://gemeinde-bunt.de/termine/gottesdienst-siedenlangenbeck-2
LOCATION:Siedenlangenbeck\, Kuhfelde\, Sachsen-Anhalt\, 29416\, Deutschland
GEO:52.7520667;11.0880847
X-APPLE-STRUCTURED-LOCATION;VALUE=URI;X-ADDRESS=Siedenlangenbeck Kuhfelde Sachsen-Anhalt 29416 Deutschland;X-APPLE-RADIUS=500;X-TITLE=Siedenlangenbeck:geo:11.0880847,52.7520667
CATEGORIES:Gottesdienst
END:VEVENT
END:VCALENDAR