BEGIN:VCALENDAR
VERSION:2.0
PRODID:-//Gemeinde-Bunt - ECPv4.6.5//NONSGML v1.0//EN
CALSCALE:GREGORIAN
METHOD:PUBLISH
X-WR-CALNAME:Gemeinde-Bunt
X-ORIGINAL-URL:https://gemeinde-bunt.de
X-WR-CALDESC:Events for Gemeinde-Bunt
BEGIN:VEVENT
DTSTART;TZID=UTC+1:20240706T160000
DTEND;TZID=UTC+1:20240706T170000
DTSTAMP:20260421T174721
CREATED:20180520T154315Z
LAST-MODIFIED:20240606T132510Z
UID:10344-1720281600-1720285200@gemeinde-bunt.de
SUMMARY:Gottesdienst Siedenlangenbeck
DESCRIPTION:
URL:https://gemeinde-bunt.de/termine/gottesdienst-siedenlangenbeck-4
LOCATION:Siedenlangenbeck\, Kuhfelde\, Sachsen-Anhalt\, 29416\, Deutschland
GEO:52.7520667;11.0880847
X-APPLE-STRUCTURED-LOCATION;VALUE=URI;X-ADDRESS=Siedenlangenbeck Kuhfelde Sachsen-Anhalt 29416 Deutschland;X-APPLE-RADIUS=500;X-TITLE=Siedenlangenbeck:geo:11.0880847,52.7520667
CATEGORIES:Gottesdienst
END:VEVENT
END:VCALENDAR