BEGIN:VCALENDAR
VERSION:2.0
PRODID:-//Gemeinde-Bunt - ECPv4.6.5//NONSGML v1.0//EN
CALSCALE:GREGORIAN
METHOD:PUBLISH
X-WR-CALNAME:Gemeinde-Bunt
X-ORIGINAL-URL:https://gemeinde-bunt.de
X-WR-CALDESC:Events for Gemeinde-Bunt
BEGIN:VEVENT
DTSTART;TZID=UTC+1:20230709T100000
DTEND;TZID=UTC+1:20230709T120000
DTSTAMP:20260419T214518
CREATED:20170820T145245Z
LAST-MODIFIED:20230602T170553Z
UID:6284-1688896800-1688904000@gemeinde-bunt.de
SUMMARY:Hansefest-Gottesdienst  - Uhrzeit nicht sicher!
DESCRIPTION:  \nStandort wird in der Presse und bei den Abkündigungen bekannt gegeben! \n
URL:https://gemeinde-bunt.de/termine/gottesdienst-st-georg-4-2023-07-09
CATEGORIES:Gottesdienst
END:VEVENT
END:VCALENDAR