BEGIN:VCALENDAR
VERSION:2.0
PRODID:-//Gemeinde-Bunt - ECPv4.6.5//NONSGML v1.0//EN
CALSCALE:GREGORIAN
METHOD:PUBLISH
X-WR-CALNAME:Gemeinde-Bunt
X-ORIGINAL-URL:https://gemeinde-bunt.de
X-WR-CALDESC:Events for Gemeinde-Bunt
BEGIN:VEVENT
DTSTART;TZID=UTC+1:20230820T100000
DTEND;TZID=UTC+1:20230820T113000
DTSTAMP:20260419T234431
CREATED:20170820T145245Z
LAST-MODIFIED:20230602T181103Z
UID:6291-1692525600-1692531000@gemeinde-bunt.de
SUMMARY:Regionaler Sommer-Gottesdienst St. Marien
DESCRIPTION:
URL:https://gemeinde-bunt.de/termine/gottesdienst-st-georg-4-2023-08-27
LOCATION:Marienkirche\, Salzwedel\, Sachsen-Anhalt\, 29410\, Deutschland
GEO:52.84948;11.149008
X-APPLE-STRUCTURED-LOCATION;VALUE=URI;X-ADDRESS=Marienkirche Salzwedel Sachsen-Anhalt 29410 Deutschland;X-APPLE-RADIUS=500;X-TITLE=Marienkirche:geo:11.149008,52.84948
CATEGORIES:Gottesdienst
END:VEVENT
END:VCALENDAR