BEGIN:VCALENDAR
VERSION:2.0
PRODID:-//Gemeinde-Bunt - ECPv4.6.5//NONSGML v1.0//EN
CALSCALE:GREGORIAN
METHOD:PUBLISH
X-WR-CALNAME:Gemeinde-Bunt
X-ORIGINAL-URL:https://gemeinde-bunt.de
X-WR-CALDESC:Events for Gemeinde-Bunt
BEGIN:VEVENT
DTSTART;TZID=UTC+1:20210829T100000
DTEND;TZID=UTC+1:20210829T113000
DTSTAMP:20260420T075320
CREATED:20170612T153241Z
LAST-MODIFIED:20210825T162150Z
UID:9811-1630231200-1630236600@gemeinde-bunt.de
SUMMARY:Konfirmations-Gottesdienst
DESCRIPTION:
URL:https://gemeinde-bunt.de/termine/gottesdienst-st-katharinen-2017-07-02-2021-08-29
LOCATION:Katharinenkirche \, Salzwedel\, Sachsen-Anhalt\, 29410\, Deutschland
GEO:52.8552028;11.1565092
X-APPLE-STRUCTURED-LOCATION;VALUE=URI;X-ADDRESS=Katharinenkirche  Salzwedel Sachsen-Anhalt 29410 Deutschland;X-APPLE-RADIUS=500;X-TITLE=Katharinenkirche:geo:11.1565092,52.8552028
CATEGORIES:Gottesdienst
END:VEVENT
END:VCALENDAR