BEGIN:VCALENDAR
VERSION:2.0
PRODID:-//Gemeinde-Bunt - ECPv4.6.5//NONSGML v1.0//EN
CALSCALE:GREGORIAN
METHOD:PUBLISH
X-WR-CALNAME:Gemeinde-Bunt
X-ORIGINAL-URL:https://gemeinde-bunt.de
X-WR-CALDESC:Events for Gemeinde-Bunt
BEGIN:VEVENT
DTSTART;TZID=UTC+1:20201231T173000
DTEND;TZID=UTC+1:20201231T183000
DTSTAMP:20260420T044717
CREATED:20171120T153945Z
LAST-MODIFIED:20201127T153959Z
UID:11848-1609435800-1609439400@gemeinde-bunt.de
SUMMARY:Gottesdienst St. Katharinen
DESCRIPTION:
URL:https://gemeinde-bunt.de/termine/gottesdienst-st-katharinen-3-2020-12-31
LOCATION:Katharinenkirche \, Salzwedel\, Sachsen-Anhalt\, 29410\, Deutschland
GEO:52.8552028;11.1565092
X-APPLE-STRUCTURED-LOCATION;VALUE=URI;X-ADDRESS=Katharinenkirche  Salzwedel Sachsen-Anhalt 29410 Deutschland;X-APPLE-RADIUS=500;X-TITLE=Katharinenkirche:geo:11.1565092,52.8552028
CATEGORIES:Gottesdienst
END:VEVENT
END:VCALENDAR