BEGIN:VCALENDAR
VERSION:2.0
PRODID:-//Gemeinde-Bunt - ECPv4.6.5//NONSGML v1.0//EN
CALSCALE:GREGORIAN
METHOD:PUBLISH
X-WR-CALNAME:Gemeinde-Bunt
X-ORIGINAL-URL:https://gemeinde-bunt.de
X-WR-CALDESC:Events for Gemeinde-Bunt
BEGIN:VEVENT
DTSTART;TZID=UTC+1:20220707T153000
DTEND;TZID=UTC+1:20220707T180000
DTSTAMP:20260421T220346
CREATED:20170826T091203Z
LAST-MODIFIED:20220212T103236Z
UID:1781-1657207800-1657216800@gemeinde-bunt.de
SUMMARY:Abschlussgrillen aller Pfadfinder
DESCRIPTION:
URL:https://gemeinde-bunt.de/termine/juengere-woelflinge-2
LOCATION:St. Georg-Straße 104\, Salzwedel\, Sachsen-Anhalt\, 29410\, Deutschland
CATEGORIES:Pfadfinder
END:VEVENT
END:VCALENDAR