BEGIN:VCALENDAR
VERSION:2.0
PRODID:-//Gemeinde-Bunt - ECPv4.6.5//NONSGML v1.0//EN
CALSCALE:GREGORIAN
METHOD:PUBLISH
X-WR-CALNAME:Gemeinde-Bunt
X-ORIGINAL-URL:https://gemeinde-bunt.de
X-WR-CALDESC:Events for Gemeinde-Bunt
BEGIN:VEVENT
DTSTART;TZID=UTC+1:20230308T153000
DTEND;TZID=UTC+1:20230308T180000
DTSTAMP:20260426T034125
CREATED:20170826T091849Z
LAST-MODIFIED:20170826T091849Z
UID:14969-1678289400-1678298400@gemeinde-bunt.de
SUMMARY:Jungpfadfinder "Wanderraupen"
DESCRIPTION:
URL:https://gemeinde-bunt.de/termine/jungpfadfinder-2/2023-03-08
LOCATION:St. Georg-Straße 104\, Salzwedel\, Sachsen-Anhalt\, 29410\, Deutschland
CATEGORIES:Pfadfinder
END:VEVENT
END:VCALENDAR