BEGIN:VCALENDAR
VERSION:2.0
PRODID:-//Gemeinde-Bunt - ECPv4.6.5//NONSGML v1.0//EN
CALSCALE:GREGORIAN
METHOD:PUBLISH
X-WR-CALNAME:Gemeinde-Bunt
X-ORIGINAL-URL:https://gemeinde-bunt.de
X-WR-CALDESC:Events for Gemeinde-Bunt
BEGIN:VEVENT
DTSTART;TZID=UTC+1:20240911T153000
DTEND;TZID=UTC+1:20240911T180000
DTSTAMP:20260422T020908
CREATED:20240909T151135Z
LAST-MODIFIED:20240909T151135Z
UID:15971-1726068600-1726077600@gemeinde-bunt.de
SUMMARY:Jungpfadfinder  - namenlose Gruppe
DESCRIPTION:
URL:https://gemeinde-bunt.de/termine/jungpfadfinder-namenlose-gruppe/2024-09-11
LOCATION:St. Georg-Straße 104\, Salzwedel\, Sachsen-Anhalt\, 29410\, Deutschland
CATEGORIES:Pfadfinder
END:VEVENT
END:VCALENDAR