BEGIN:VCALENDAR
VERSION:2.0
PRODID:-//Gemeinde-Bunt - ECPv4.6.5//NONSGML v1.0//EN
CALSCALE:GREGORIAN
METHOD:PUBLISH
X-WR-CALNAME:Gemeinde-Bunt
X-ORIGINAL-URL:https://gemeinde-bunt.de
X-WR-CALDESC:Events for Gemeinde-Bunt
BEGIN:VEVENT
DTSTART;TZID=UTC+1:20230926T153000
DTEND;TZID=UTC+1:20230926T180000
DTSTAMP:20260419T234430
CREATED:20230203T175218Z
LAST-MODIFIED:20230203T175218Z
UID:14955-1695742200-1695751200@gemeinde-bunt.de
SUMMARY:Jungpfadfinder "neu"
DESCRIPTION:
URL:https://gemeinde-bunt.de/termine/jungpfadfinder-neu-3/2023-09-26
LOCATION:St. Georg-Straße 104\, Salzwedel\, Sachsen-Anhalt\, 29410\, Deutschland
END:VEVENT
END:VCALENDAR