BEGIN:VCALENDAR
VERSION:2.0
PRODID:-//Gemeinde-Bunt - ECPv4.6.5//NONSGML v1.0//EN
CALSCALE:GREGORIAN
METHOD:PUBLISH
X-WR-CALNAME:Gemeinde-Bunt
X-ORIGINAL-URL:https://gemeinde-bunt.de
X-WR-CALDESC:Events for Gemeinde-Bunt
BEGIN:VEVENT
DTSTART;TZID=UTC+1:20231114T153000
DTEND;TZID=UTC+1:20231114T180000
DTSTAMP:20260420T044754
CREATED:20230203T175323Z
LAST-MODIFIED:20230203T175323Z
UID:14957-1699975800-1699984800@gemeinde-bunt.de
SUMMARY:Jungpfadfinder "neu"
DESCRIPTION:
URL:https://gemeinde-bunt.de/termine/jungpfadfinder-neu-4/2023-11-14
LOCATION:St. Georg-Straße 104\, Salzwedel\, Sachsen-Anhalt\, 29410\, Deutschland
END:VEVENT
END:VCALENDAR