BEGIN:VCALENDAR
VERSION:2.0
PRODID:-//Gemeinde-Bunt - ECPv4.6.5//NONSGML v1.0//EN
CALSCALE:GREGORIAN
METHOD:PUBLISH
X-WR-CALNAME:Gemeinde-Bunt
X-ORIGINAL-URL:https://gemeinde-bunt.de
X-WR-CALDESC:Events for Gemeinde-Bunt
BEGIN:VEVENT
DTSTART;TZID=UTC+1:20170826T093000
DTEND;TZID=UTC+1:20170826T160000
DTSTAMP:20260422T140043
CREATED:20170819T092122Z
LAST-MODIFIED:20170819T092122Z
UID:1512-1503739800-1503763200@gemeinde-bunt.de
SUMMARY:Kinder-Singe-Tag
DESCRIPTION:Für den 26. August 2017 laden die Kirchenmusiker der Altmark zu einem Kinder-Singe-Tag in dert St. Katharinenkirche Salzwedel ein. Mit Kindern aus der gesamten Altmark wollen wir gemeinsam singen\, spielen und einen Gottesdienst mit ganz viel Musik feiern. Im Mittelpunkt des Tages\nsteht das Kindermusical „Zachäus“ von Margret Birkenfeld. Kirchenmusiker und Gemeindepädagogen werden es mit den Kindern in kleineren und größeren Gruppen musikalisch erarbeiten.\nEingeladen sind aus der gesamten Altmark alle Kinder\, die gern singen\, ab 5 Jahre. \n
URL:https://gemeinde-bunt.de/termine/kinder-singe-tag
LOCATION:Katharinenkirche \, Salzwedel\, Sachsen-Anhalt\, 29410\, Deutschland
GEO:52.8552028;11.1565092
X-APPLE-STRUCTURED-LOCATION;VALUE=URI;X-ADDRESS=Katharinenkirche  Salzwedel Sachsen-Anhalt 29410 Deutschland;X-APPLE-RADIUS=500;X-TITLE=Katharinenkirche:geo:11.1565092,52.8552028
CATEGORIES:Gemeindeangebote,Gottesdienst,Groß Chüden,Kinderkirche,Konzerte,Kuhfelde,St. Georg,St. Katharinen
END:VEVENT
END:VCALENDAR