BEGIN:VCALENDAR
VERSION:2.0
PRODID:-//Gemeinde-Bunt - ECPv4.6.5//NONSGML v1.0//EN
CALSCALE:GREGORIAN
METHOD:PUBLISH
X-WR-CALNAME:Gemeinde-Bunt
X-ORIGINAL-URL:https://gemeinde-bunt.de
X-WR-CALDESC:Events for Gemeinde-Bunt
BEGIN:VEVENT
DTSTART;TZID=UTC+1:20201125T170000
DTEND;TZID=UTC+1:20201125T174500
DTSTAMP:20260419T195943
CREATED:20171017T073909Z
LAST-MODIFIED:20201102T105225Z
UID:12438-1606323600-1606326300@gemeinde-bunt.de
SUMMARY:Kinderchor - Probe in der Kirche
DESCRIPTION:für Kinder ab der 3. Klasse \n
URL:https://gemeinde-bunt.de/termine/kinderchor-2018-06-13-2018-10-24-2020-11-25
LOCATION:An der Katharinenkirche 6\, Salzwedel\, Sachsen-Anhalt\, 29410\, Deutschland
GEO:52.85536;11.15654
X-APPLE-STRUCTURED-LOCATION;VALUE=URI;X-ADDRESS=An der Katharinenkirche 6 Salzwedel Sachsen-Anhalt 29410 Deutschland;X-APPLE-RADIUS=500;X-TITLE=An der Katharinenkirche 6:geo:11.15654,52.85536
CATEGORIES:Chorprobe
END:VEVENT
END:VCALENDAR