BEGIN:VCALENDAR
VERSION:2.0
PRODID:-//Gemeinde-Bunt - ECPv4.6.5//NONSGML v1.0//EN
CALSCALE:GREGORIAN
METHOD:PUBLISH
X-WR-CALNAME:Gemeinde-Bunt
X-ORIGINAL-URL:https://gemeinde-bunt.de
X-WR-CALDESC:Events for Gemeinde-Bunt
BEGIN:VEVENT
DTSTART;TZID=UTC+1:20221017T144500
DTEND;TZID=UTC+1:20221017T153000
DTSTAMP:20260422T082429
CREATED:20170918T155147Z
LAST-MODIFIED:20220916T150911Z
UID:14544-1666017900-1666020600@gemeinde-bunt.de
SUMMARY:Kinderkirche Groß Chüden
DESCRIPTION:zurzeit Mehrgenerationshaus Salzwedel\, Sonnenstraße 4 \n
URL:https://gemeinde-bunt.de/termine/kinderkirche-gross-chueden/2022-10-17
LOCATION:Dorfstraße 43\, Salzwedel\, Sachsen-Anhalt\, 29410\, Deutschland
CATEGORIES:Groß Chüden,Kinderkirche
END:VEVENT
END:VCALENDAR