BEGIN:VCALENDAR
VERSION:2.0
PRODID:-//Gemeinde-Bunt - ECPv4.6.5//NONSGML v1.0//EN
CALSCALE:GREGORIAN
METHOD:PUBLISH
X-WR-CALNAME:Gemeinde-Bunt
X-ORIGINAL-URL:https://gemeinde-bunt.de
X-WR-CALDESC:Events for Gemeinde-Bunt
BEGIN:VEVENT
DTSTART;TZID=UTC+1:20230327T160000
DTEND;TZID=UTC+1:20230327T164500
DTSTAMP:20260419T215038
CREATED:20210728T145954Z
LAST-MODIFIED:20210728T145954Z
UID:15072-1679932800-1679935500@gemeinde-bunt.de
SUMMARY:Konfirmandenunterricht Groß Chüden
DESCRIPTION:
URL:https://gemeinde-bunt.de/termine/konfirmandenunterricht-gross-chueden/2023-03-27
LOCATION:Dorfstraße 43\, Salzwedel\, Sachsen-Anhalt\, 29410\, Deutschland
CATEGORIES:Konfirmanden
END:VEVENT
END:VCALENDAR