BEGIN:VCALENDAR
VERSION:2.0
PRODID:-//Gemeinde-Bunt - ECPv4.6.5//NONSGML v1.0//EN
CALSCALE:GREGORIAN
METHOD:PUBLISH
X-WR-CALNAME:Gemeinde-Bunt
X-ORIGINAL-URL:https://gemeinde-bunt.de
X-WR-CALDESC:Events for Gemeinde-Bunt
BEGIN:VEVENT
DTSTART;TZID=UTC+0:20220913T090000
DTEND;TZID=UTC+0:20220913T110000
DTSTAMP:20260421T204020
CREATED:20170412T144802Z
LAST-MODIFIED:20180722T154357Z
UID:4350-1663059600-1663066800@gemeinde-bunt.de
SUMMARY:Offenes Gemeindefrühstück
DESCRIPTION:
URL:https://gemeinde-bunt.de/termine/lorem-ipsum/2022-09-13
END:VEVENT
END:VCALENDAR